BEGIN:VCALENDAR
VERSION:2.0
PRODID:-//Contratero//ES
CALSCALE:GREGORIAN
METHOD:PUBLISH
BEGIN:VEVENT
UID:SDA 2023/3 0-2024/203@contratero.es
DTSTAMP:20260424T114704Z
DTSTART:20241028T235959
DTEND:20241029T005959
SUMMARY:Cierre: Configuración y suscripción a Entorno preproducció
DESCRIPTION:Configuración y suscripción a Entorno preproducción (PRE) para pruebas de conexión con el API del ERP de INCLIVA (Fundanet API) desde aplicaciones locales\\n\\nOrganismo: Fundación para la Investigación del Hospital Clínico de la Comunidad Valenciana\, Fundación Incliva\\n\\nVer en Contratero: https://contratero.es/contracts/SDA 2023/3 0-2024/203
URL:https://contratero.es/contracts/SDA 2023/3 0-2024/203
STATUS:CONFIRMED
BEGIN:VALARM
TRIGGER:-P1D
ACTION:DISPLAY
DESCRIPTION:Recordatorio: Configuración y suscripción a 
END:VALARM
END:VEVENT
END:VCALENDAR